BEGIN:VCALENDAR
VERSION:2.0
PRODID:icalendar-ruby
CALSCALE:GREGORIAN
METHOD:PUBLISH
BEGIN:VEVENT
DTSTAMP:20260420T064141Z
UID:255-1490@thebridgehatton.com
DTSTART:20260510T155000Z
DTEND:20260510T171000Z
CLASS:PUBLIC
CREATED:20260413T114138
DESCRIPTION:Join us as we celebrate our Mothers and Mother figures for Moth
 er's Day. We are very blessed at The Bridge!
LAST-MODIFIED:20260413T114138
LOCATION:The Bridge Christian Fellowship 
SUMMARY:Special Mother's Day Service
URL;VALUE=URI:https://www.thebridgehatton.com/events/special-mothers-day-se
 rvice--255/2026-05-10
ATTACH;FILENAME=fernsandpine-mom-7976715_640.jpg;FMTTYPE=image/jpeg:https:/
 /dq5pwpg1q8ru0.cloudfront.net/2026/04/13/16/41/38/e72084c9-fca2-49a4-a6a8-
 9c88f044fa15/fernsandpine-mom-7976715_640.jpg
END:VEVENT
END:VCALENDAR
